BEGIN:VCALENDAR
VERSION:2.0
PRODID:-//H.D. Woodson STEM High School - ECPv6.15.1.1//NONSGML v1.0//EN
CALSCALE:GREGORIAN
METHOD:PUBLISH
X-WR-CALNAME:H.D. Woodson STEM High School
X-ORIGINAL-URL:https://hdwoodson.org
X-WR-CALDESC:Events for H.D. Woodson STEM High School
REFRESH-INTERVAL;VALUE=DURATION:PT1H
X-Robots-Tag:noindex
X-PUBLISHED-TTL:PT1H
BEGIN:VTIMEZONE
TZID:America/New_York
BEGIN:DAYLIGHT
TZOFFSETFROM:-0500
TZOFFSETTO:-0400
TZNAME:EDT
DTSTART:20260308T070000
END:DAYLIGHT
BEGIN:STANDARD
TZOFFSETFROM:-0400
TZOFFSETTO:-0500
TZNAME:EST
DTSTART:20261101T060000
END:STANDARD
END:VTIMEZONE
BEGIN:VEVENT
DTSTART;VALUE=DATE:20260527
DTEND;VALUE=DATE:20260528
DTSTAMP:20260423T232124
CREATED:20250418T061545Z
LAST-MODIFIED:20250418T061545Z
UID:11997-1779840000-1779926399@hdwoodson.org
SUMMARY:Eid al-Adha
DESCRIPTION:
URL:https://hdwoodson.org/event/eid-al-adha/
END:VEVENT
END:VCALENDAR