BEGIN:VCALENDAR
VERSION:2.0
PRODID:-//H.D. Woodson STEM High School - ECPv6.15.1.1//NONSGML v1.0//EN
CALSCALE:GREGORIAN
METHOD:PUBLISH
X-WR-CALNAME:H.D. Woodson STEM High School
X-ORIGINAL-URL:https://hdwoodson.org
X-WR-CALDESC:Events for H.D. Woodson STEM High School
REFRESH-INTERVAL;VALUE=DURATION:PT1H
X-Robots-Tag:noindex
X-PUBLISHED-TTL:PT1H
BEGIN:VTIMEZONE
TZID:America/New_York
BEGIN:DAYLIGHT
TZOFFSETFROM:-0500
TZOFFSETTO:-0400
TZNAME:EDT
DTSTART:20260308T070000
END:DAYLIGHT
BEGIN:STANDARD
TZOFFSETFROM:-0400
TZOFFSETTO:-0500
TZNAME:EST
DTSTART:20261101T060000
END:STANDARD
END:VTIMEZONE
BEGIN:VEVENT
DTSTART;VALUE=DATE:20260416
DTEND;VALUE=DATE:20260417
DTSTAMP:20260424T053325
CREATED:20250418T060344Z
LAST-MODIFIED:20250418T060344Z
UID:11968-1776297600-1776383999@hdwoodson.org
SUMMARY:DC Emancipation Day
DESCRIPTION:
URL:https://hdwoodson.org/event/dc-emancipation-day-2/
END:VEVENT
BEGIN:VEVENT
DTSTART;VALUE=DATE:20260413
DTEND;VALUE=DATE:20260418
DTSTAMP:20260424T053325
CREATED:20250418T060316Z
LAST-MODIFIED:20250418T060317Z
UID:11966-1776038400-1776470399@hdwoodson.org
SUMMARY:Spring Break - School Closed
DESCRIPTION:
URL:https://hdwoodson.org/event/spring-break-school-closed-2/
END:VEVENT
BEGIN:VEVENT
DTSTART;VALUE=DATE:20260406
DTEND;VALUE=DATE:20260407
DTSTAMP:20260424T053325
CREATED:20250418T060222Z
LAST-MODIFIED:20250418T060227Z
UID:11964-1775433600-1775519999@hdwoodson.org
SUMMARY:End of Term / No School for Students
DESCRIPTION:
URL:https://hdwoodson.org/event/end-of-term-no-school-for-students-2/
END:VEVENT
BEGIN:VEVENT
DTSTART;VALUE=DATE:20260405
DTEND;VALUE=DATE:20260406
DTSTAMP:20260424T053325
CREATED:20250418T061206Z
LAST-MODIFIED:20250418T061206Z
UID:11983-1775347200-1775433599@hdwoodson.org
SUMMARY:Easter
DESCRIPTION:
URL:https://hdwoodson.org/event/easter-2/
END:VEVENT
BEGIN:VEVENT
DTSTART;VALUE=DATE:20260403
DTEND;VALUE=DATE:20260404
DTSTAMP:20260424T053325
CREATED:20250418T061129Z
LAST-MODIFIED:20250418T061129Z
UID:11981-1775174400-1775260799@hdwoodson.org
SUMMARY:Good Friday
DESCRIPTION:
URL:https://hdwoodson.org/event/good-friday-2/
END:VEVENT
END:VCALENDAR