BEGIN:VCALENDAR
VERSION:2.0
PRODID:-//H.D. Woodson STEM High School - ECPv6.15.1.1//NONSGML v1.0//EN
CALSCALE:GREGORIAN
METHOD:PUBLISH
X-ORIGINAL-URL:https://hdwoodson.org
X-WR-CALDESC:Events for H.D. Woodson STEM High School
REFRESH-INTERVAL;VALUE=DURATION:PT1H
X-Robots-Tag:noindex
X-PUBLISHED-TTL:PT1H
BEGIN:VTIMEZONE
TZID:America/New_York
BEGIN:DAYLIGHT
TZOFFSETFROM:-0500
TZOFFSETTO:-0400
TZNAME:EDT
DTSTART:20260308T070000
END:DAYLIGHT
BEGIN:STANDARD
TZOFFSETFROM:-0400
TZOFFSETTO:-0500
TZNAME:EST
DTSTART:20261101T060000
END:STANDARD
END:VTIMEZONE
BEGIN:VEVENT
DTSTART;VALUE=DATE:20260525
DTEND;VALUE=DATE:20260526
DTSTAMP:20260423T191746
CREATED:20250418T060421Z
LAST-MODIFIED:20250418T060421Z
UID:11970-1779667200-1779753599@hdwoodson.org
SUMMARY:Memorial Day Holiday - School Closed
DESCRIPTION:
URL:https://hdwoodson.org/event/memorial-day-holiday-school-closed-2/
END:VEVENT
BEGIN:VEVENT
DTSTART;VALUE=DATE:20260527
DTEND;VALUE=DATE:20260528
DTSTAMP:20260423T191746
CREATED:20250418T061545Z
LAST-MODIFIED:20250418T061545Z
UID:11997-1779840000-1779926399@hdwoodson.org
SUMMARY:Eid al-Adha
DESCRIPTION:
URL:https://hdwoodson.org/event/eid-al-adha/
END:VEVENT
BEGIN:VEVENT
DTSTART;VALUE=DATE:20260601
DTEND;VALUE=DATE:20260602
DTSTAMP:20260423T191746
CREATED:20250418T062443Z
LAST-MODIFIED:20250418T062443Z
UID:12005-1780272000-1780358399@hdwoodson.org
SUMMARY:Pride Month Begins
DESCRIPTION:
URL:https://hdwoodson.org/event/pride-month-begins-2/
END:VEVENT
BEGIN:VEVENT
DTSTART;TZID=America/New_York:20260616T083000
DTEND;TZID=America/New_York:20260616T153000
DTSTAMP:20260423T191746
CREATED:20250418T060834Z
LAST-MODIFIED:20250418T060839Z
UID:11977-1781598600-1781623800@hdwoodson.org
SUMMARY:No School for Students or Teachers
DESCRIPTION:
URL:https://hdwoodson.org/event/no-school-for-students-or-teachers/
END:VEVENT
BEGIN:VEVENT
DTSTART;VALUE=DATE:20260617
DTEND;VALUE=DATE:20260618
DTSTAMP:20260423T191746
CREATED:20250418T061612Z
LAST-MODIFIED:20250418T061612Z
UID:11999-1781654400-1781740799@hdwoodson.org
SUMMARY:First Day of Muharram
DESCRIPTION:
URL:https://hdwoodson.org/event/first-day-of-muharram/
END:VEVENT
BEGIN:VEVENT
DTSTART;TZID=America/New_York:20260617T083000
DTEND;TZID=America/New_York:20260617T153000
DTSTAMP:20260423T191746
CREATED:20250418T060513Z
LAST-MODIFIED:20250418T060518Z
UID:11972-1781685000-1781710200@hdwoodson.org
SUMMARY:Last Day of School for Students
DESCRIPTION:
URL:https://hdwoodson.org/event/last-day-of-school-for-students-2/
END:VEVENT
BEGIN:VEVENT
DTSTART;TZID=America/New_York:20260618T083000
DTEND;TZID=America/New_York:20260618T153000
DTSTAMP:20260423T191746
CREATED:20250418T060944Z
LAST-MODIFIED:20250418T113334Z
UID:11979-1781771400-1781796600@hdwoodson.org
SUMMARY:End of Term / Half-Day PD for Staff
DESCRIPTION:
URL:https://hdwoodson.org/event/end-of-term-half-day-pd/
END:VEVENT
BEGIN:VEVENT
DTSTART;VALUE=DATE:20260619
DTEND;VALUE=DATE:20260620
DTSTAMP:20260423T191746
CREATED:20250418T060631Z
LAST-MODIFIED:20250418T113509Z
UID:11974-1781827200-1781913599@hdwoodson.org
SUMMARY:Juneteenth
DESCRIPTION:
URL:https://hdwoodson.org/event/juneteenth-school-closed/
END:VEVENT
BEGIN:VEVENT
DTSTART;VALUE=DATE:20260621
DTEND;VALUE=DATE:20260622
DTSTAMP:20260423T191746
CREATED:20250418T113714Z
LAST-MODIFIED:20250418T113714Z
UID:12009-1782000000-1782086399@hdwoodson.org
SUMMARY:First Day of Summer
DESCRIPTION:
URL:https://hdwoodson.org/event/first-day-of-summer-2/
END:VEVENT
BEGIN:VEVENT
DTSTART;VALUE=DATE:20260626
DTEND;VALUE=DATE:20260627
DTSTAMP:20260423T191746
CREATED:20250418T061650Z
LAST-MODIFIED:20250418T061650Z
UID:12001-1782432000-1782518399@hdwoodson.org
SUMMARY:Ashura
DESCRIPTION:
URL:https://hdwoodson.org/event/ashura/
END:VEVENT
BEGIN:VEVENT
DTSTART;VALUE=DATE:20260704
DTEND;VALUE=DATE:20260705
DTSTAMP:20260423T191746
CREATED:20250418T113747Z
LAST-MODIFIED:20250418T113747Z
UID:12011-1783123200-1783209599@hdwoodson.org
SUMMARY:Independence Day
DESCRIPTION:
URL:https://hdwoodson.org/event/independence-day-2/
END:VEVENT
END:VCALENDAR